BEGIN:VCALENDAR
VERSION:2.0
PRODID:-//ChamberMaster//Event Calendar 2.0//EN
METHOD:PUBLISH
X-PUBLISHED-TTL:P3D
REFRESH-INTERVAL:P3D
CALSCALE:GREGORIAN
BEGIN:VEVENT
DTSTART:20250622T230000Z
DTEND:20250623T020000Z
X-MICROSOFT-CDO-ALLDAYEVENT:FALSE
SUMMARY:2025 Big Band Series: Sentimental Swing Big Band
DESCRIPTION:Ticket Information:\n\nMembership: $140.00 (includes admission for two and reserved seating at each show)\n\nIndividual Show Tickets: $26.50\n\nAvailable through the Surf Ballroom Box Office\n\nEvent Details:\n\nThe Surf Ballroom invites you to dance the summer nights away during its beloved Big Band Series\, taking place on select Sundays throughout the season. With doors opening at 5:30 PM and live music and dancing from 6:00 to 9:00 PM\, it?s an evening of timeless tunes\, joyful movement\, and community spirit.\n\nHeld inside the iconic Surf Ballroom?complete with its expansive\, historic dance floor?this series celebrates the golden age of swing and big band music. Whether you?re a seasoned ballroom dancer or stepping out for the first time\, you?ll find the perfect setting to glide\, twirl\, and swing the night away.
X-ALT-DESC;FMTTYPE=text/html:Ticket Information:\n\nMembership: $140.00 (includes admission for two and reserved seating at each show)\n\nIndividual Show Tickets: $26.50\n\nAvailable through the Surf Ballroom Box Office\n\nEvent Details:\n\nThe Surf Ballroom invites you to dance the summer nights away during its beloved Big Band Series\, taking place on select Sundays throughout the season. With doors opening at 5:30 PM and live music and dancing from 6:00 to 9:00 PM\, it?s an evening of timeless tunes\, joyful movement\, and community spirit.\n\nHeld inside the iconic Surf Ballroom?complete with its expansive\, historic dance floor?this series celebrates the golden age of swing and big band music. Whether you?re a seasoned ballroom dancer or stepping out for the first time\, you?ll find the perfect setting to glide\, twirl\, and swing the night away.
LOCATION:460 Northshore Dr
UID:e.1102.739860
SEQUENCE:3
DTSTAMP:20260424T094017Z
URL:https://members.clearlakeiowa.com/events/details/2025-big-band-series-sentimental-swing-big-band-739860
END:VEVENT

END:VCALENDAR
