BEGIN:VCALENDAR
VERSION:2.0
PRODID:-//ChamberMaster//Event Calendar 2.0//EN
METHOD:PUBLISH
X-PUBLISHED-TTL:P3D
REFRESH-INTERVAL:P3D
CALSCALE:GREGORIAN
BEGIN:VEVENT
DTSTART:20191018T170000Z
DTEND:20191018T181500Z
X-MICROSOFT-CDO-ALLDAYEVENT:FALSE
SUMMARY:12x12 Luncheon
DESCRIPTION:Do you think you know a lot about Clear Lake?\n\n\n\nParticipate in the fun\, casual way to learn about the companies you thought you knew all about\, network with fellow Chamber members\, and truly get a free lunch!\n\n\n\nIt's the 12x12 luncheon!  Here's how it works: The Chamber will host a luncheon for the first 12 Chamber members to register.  The only thing the member will have to do is tell the rest of the group about your company in about 5 minutes\, to include questions!  It will be a pleasant surprise at how informative and fun it was.\n\n\n\nSo\, what are you waiting for? To register\, call the Chamber today!
X-ALT-DESC;FMTTYPE=text/html:Do you think you know a lot about Clear Lake?<br />\n<br />\nParticipate in the fun\, casual way to learn about the companies you thought you knew all about\, network with fellow Chamber members\, and truly get a free lunch!<br />\n<br />\nIt&#39\;s the 12x12 luncheon! &nbsp\;Here&#39\;s how it works: The Chamber will host a luncheon for the first 12 Chamber members to register. &nbsp\;The only thing the member will have to do is tell the rest of the group about your company in about 5 minutes\, to include questions! &nbsp\;It will be a pleasant surprise at how informative and fun it was.<br />\n<br />\nSo\, what are you waiting for? To register\, call the Chamber today!
LOCATION:Chamber Boardroom
UID:e.1102.731726
SEQUENCE:3
DTSTAMP:20260421T184432Z
URL:https://members.clearlakeiowa.com/events/details/12x12-luncheon-731726
END:VEVENT

END:VCALENDAR
